BEGIN:VCALENDAR
VERSION:2.0
PRODID:-//Abbey Arts Centre - ECPv4.5.12.2//NONSGML v1.0//EN
CALSCALE:GREGORIAN
METHOD:PUBLISH
X-WR-CALNAME:Abbey Arts Centre
X-ORIGINAL-URL:http://abbeycentre.ie
X-WR-CALDESC:Events for Abbey Arts Centre
BEGIN:VEVENT
DTSTART;TZID=UTC+0:20150829T193000
DTEND;TZID=UTC+0:20150829T213000
DTSTAMP:20171101T021756
CREATED:20150701T133804Z
LAST-MODIFIED:20150701T134034Z
UID:800-1440876600-1440883800@abbeycentre.ie
SUMMARY:Wrestling USA
DESCRIPTION: \n
URL:http://abbeycentre.ie/events/wrestling-usa/
LOCATION:Ballyshannon\, Co. Donegal\, Ireland
CATEGORIES:Theatre
ATTACH;FMTTYPE=image/jpeg:http://abbeycentre.ie/wp-content/uploads/2015/04/wrestling.jpg
END:VEVENT
END:VCALENDAR