BEGIN:VCALENDAR
VERSION:2.0
PRODID:-//Abbey Arts Centre - ECPv4.5.12.2//NONSGML v1.0//EN
CALSCALE:GREGORIAN
METHOD:PUBLISH
X-WR-CALNAME:Abbey Arts Centre
X-ORIGINAL-URL:http://abbeycentre.ie
X-WR-CALDESC:Events for Abbey Arts Centre
BEGIN:VEVENT
DTSTART;TZID=UTC+0:20170125T200000
DTEND;TZID=UTC+0:20170125T220000
DTSTAMP:20171101T022632
CREATED:20161104T145424Z
LAST-MODIFIED:20161104T145424Z
UID:2208-1485374400-1485381600@abbeycentre.ie
SUMMARY:Film Club - The Clan
DESCRIPTION:   \nArgentina\, Spain\, 2015\, 110 mins\, Cert: CLUB \nStarring: Guillermo Francella\, Peter Lanzani\, Lili Popovich\, Gaston Cocchiarale\, Giselle Motta\, Franco Masini\, Antonia Bengoechea\, Stefania Koessl     \nLanguage: Spanish \nTrailer: https://www.youtube.com/watch?v=cV4jSwCrR44 \nArgentinian director Pablo Trapero’s audaciously entertaining true-crime saga will put a grin on your face of any ‘GoodFellas’ fan. Argentine auteur Pablo Trapero (‘White Elephant’) recounts the astonishing true story of a seemingly normal middle-class family that trafficked in the kidnapping\, ransoming and murder of the wealthy. The disappeared — los desaparecidos — are words that carry special resonance in Argentina. Long associated with the crimes of the military junta of the 1970s\, the term takes on a different\, but no less chilling\, meaning in the hands of filmmaker Pablo Trapero. On the surface the Puccios look like most other families. Steely-eyed patriarch Arquimedes presides over a household where his wife\, sons\, and daughters gather for evening meals and discuss their days. Trapero details the ordinariness of the Puccios’ domestic life while not sparing us the brutality of the kidnappings. ‘The Clan’ is a disturbing\, impressive\, and beautifully controlled film from a director whose work matures with each new project. \n-Belfast Film Festival 2016 \n
URL:http://abbeycentre.ie/events/film-club-the-clan/
CATEGORIES:Film
ATTACH;FMTTYPE=image/jpeg:http://abbeycentre.ie/wp-content/uploads/2016/11/image-2-e1478271223739.jpg
END:VEVENT
END:VCALENDAR