BEGIN:VCALENDAR
VERSION:2.0
PRODID:-//Abbey Arts Centre - ECPv4.5.12.2//NONSGML v1.0//EN
CALSCALE:GREGORIAN
METHOD:PUBLISH
X-WR-CALNAME:Abbey Arts Centre
X-ORIGINAL-URL:http://abbeycentre.ie
X-WR-CALDESC:Events for Abbey Arts Centre
BEGIN:VEVENT
DTSTART;TZID=UTC+0:20161123T200000
DTEND;TZID=UTC+0:20161123T220000
DTSTAMP:20171101T022609
CREATED:20160802T124919Z
LAST-MODIFIED:20160802T124941Z
UID:2090-1479931200-1479938400@abbeycentre.ie
SUMMARY:Film Club - Marguerite
DESCRIPTION:   \nMarguerite \n129 mins\, France\, Czech Republic\, Belgium\, 2015\, CLUB \nDirector: Xavier Giannoli \n Cast: Catherine Frot\, André Marcon\, Michel Fau\, \n Launguage: French \nBased on the true story of Parisian Florence Foster Jenkins\, who believed she was blessed with the voice of an angel while in reality she was tone deaf\, Marguerite (affectionally portrayed by Catherine Frot) is a much loved\, much ridiculed socialite who\, through years of misguided praise wand being shielded from reality believes herself to be a soperano of exceptional talent.  Starved of affection\, isolated in a dead marriage Marguerite escapes though her singing\, her inability to hear her own voice reflecting the denial of her husbands disinterest.  Convinced to stage her first public performance\, the scene is set for Marguerites inevitable exposure. Xavier Giannoli offers a touching dramedy about the reality of little white lies and inescapable truths. \nFestivals: \nVenice Film Festival: 2015 \nCésar Awards\, France 2016 \nAwards: \nWon Nazareno Taddei Award Venice Film Festival 2015 \nQuotes: \n“Marguerite” is a Surprising\, Off-Key Delight \n\nDejarelle Gaines\, Washington Square News\n\n‘Xavier Giannoli&#8217;s exquisite satire thrusts an amateur soprano onto the stage.’-Peter Debruge\, Variety \n
URL:http://abbeycentre.ie/events/film-club-marguerite/
CATEGORIES:Film
ATTACH;FMTTYPE=image/jpeg:http://abbeycentre.ie/wp-content/uploads/2016/08/unspecified6-e1478097009127.jpg
END:VEVENT
END:VCALENDAR