BEGIN:VCALENDAR
VERSION:2.0
PRODID:-//Abbey Arts Centre - ECPv4.5.12.2//NONSGML v1.0//EN
CALSCALE:GREGORIAN
METHOD:PUBLISH
X-WR-CALNAME:Abbey Arts Centre
X-ORIGINAL-URL:http://abbeycentre.ie
X-WR-CALDESC:Events for Abbey Arts Centre
BEGIN:VEVENT
DTSTART;TZID=UTC+0:20160817T200000
DTEND;TZID=UTC+0:20160817T220000
DTSTAMP:20171101T021123
CREATED:20160427T100835Z
LAST-MODIFIED:20160427T100835Z
UID:1985-1471464000-1471471200@abbeycentre.ie
SUMMARY:Film Club - Despite the Falling Snow
DESCRIPTION:      \n UK\, Serbia   2016       93 mins           Cert: TBC     \nDirector: Shamim Sarif     \nStarring: Rebecca Ferguson\, Sam Reid\, Charles Dance\, Anthony Head \nLanguage: English \nTrailer: https://youtu.be/TX-5EYUNEBU \nSet in Cold War Moscow over 1959-1961\, against the background of the escalating Russia-U.S. arms race\, as well as in an aseptically modern 1992 New York\, “Snow” chronicles two people experiencing not only the full flush of the love of their life but also the crunch of huge ethical dilemmas whose resolution will test their humanity. \nIt centers on Katya (Ferguson)\, a Russian school administrator who falls for and marries Alexander (Reid)\, a rising government star\, becoming a Kremlin wife. But she is also a spy for the U.S.\, bent on avenging her parents’ death in a Stalinist purge. When Alexander unwittingly closes the net around his own wife\, she makes the ultimate sacrifice to protect him. Over 30 years later\, as Lauren (also Ferguson)\, his artist niece\, travels to post Soviet Moscow for an art exhibition\, Alexander (Dance)\, now a successful New York businessman\, may finally discover the truth about his wife’s disappearance as he defected to the U.S.\, an event which still obsesses him. \n“’Despite the Falling Snow’ is a relatively rare film today\, an epic love story which talks about betrayal\, how people behave under the deepest political and emotional stress\,” said Kattan. \nIt was shot in Belgrade to add production values and a sense of period sweep. “We wanted the snow and the scope of Cold War Moscow\, and also the contrast between the opulent surroundings of the Kremlin elite versus most people\,” she added\, saying that the film targeted 20-plus audiences\, “intelligent men and women who enjoy literary adaptations from books\, intelligent movies with a strong narrative and classic storytelling.” &#8211; John Hopewell\, Variety \n
URL:http://abbeycentre.ie/events/film-club-despite-the-falling-snow/
CATEGORIES:Film
ATTACH;FMTTYPE=image/jpeg:http://abbeycentre.ie/wp-content/uploads/2016/04/LAS_0091-1021x681-e1463061657859.jpg
END:VEVENT
END:VCALENDAR