BEGIN:VCALENDAR
VERSION:2.0
PRODID:-//Abbey Arts Centre - ECPv4.5.12.2//NONSGML v1.0//EN
CALSCALE:GREGORIAN
METHOD:PUBLISH
X-WR-CALNAME:Abbey Arts Centre
X-ORIGINAL-URL:http://abbeycentre.ie
X-WR-CALDESC:Events for Abbey Arts Centre
BEGIN:VEVENT
DTSTART;VALUE=DATE:20151010
DTEND;VALUE=DATE:20151010
DTSTAMP:20171101T022853
CREATED:20150929T125844Z
LAST-MODIFIED:20150929T131059Z
UID:924-1444435200-1444521599@abbeycentre.ie
SUMMARY:Connect Mental Health Live
DESCRIPTION:    \nTickets for Connect Live are now available. Connect Live is a free community conference taking place from 1pm &#8211; 6pm in the Abbey Centre\, Ballyshannnon\, on Saturday October 10th\, World Mental Health Day. Tickets are FREE but limited. Speakers include Niall Breslin (Bressie)\, Oisín McConville\, Easkey Britton and more. \n Book your tickets here https://www.eventbrite.com/e/connect-live-registration-1858… \n
URL:http://abbeycentre.ie/events/connect-mental-health-live/
LOCATION:Ballyshannon\, Co. Donegal\, Ireland
CATEGORIES:Conference,Theatre
ATTACH;FMTTYPE=image/jpeg:http://abbeycentre.ie/wp-content/uploads/2015/09/Mental-Health-2-e1443532410761.jpg
END:VEVENT
END:VCALENDAR