BEGIN:VCALENDAR
VERSION:2.0
PRODID:-//Abbey Arts Centre - ECPv4.5.12.2//NONSGML v1.0//EN
CALSCALE:GREGORIAN
METHOD:PUBLISH
X-WR-CALNAME:Abbey Arts Centre
X-ORIGINAL-URL:http://abbeycentre.ie
X-WR-CALDESC:Events for Abbey Arts Centre
BEGIN:VEVENT
DTSTART;TZID=UTC+0:20150314T203000
DTEND;TZID=UTC+0:20150322T230000
DTSTAMP:20171101T022649
CREATED:20150101T150731Z
LAST-MODIFIED:20150120T171512Z
UID:223-1426365000-1427065200@abbeycentre.ie
SUMMARY:Ballyshannon Drama Festival
DESCRIPTION:The Ballyshannon Drama Festival will run from March 14th-22nd\, under the auspices of the ADCI and the DLI. See ballyshannondrama.com for more details. \n  \n
URL:http://abbeycentre.ie/events/ballyshannon-drama-festival/
LOCATION:Ballyshannon\, Co. Donegal\, Ireland
CATEGORIES:Theatre
ATTACH;FMTTYPE=image/png:http://abbeycentre.ie/wp-content/uploads/2015/01/63rd-Festival.png
END:VEVENT
END:VCALENDAR