BEGIN:VCALENDAR
VERSION:2.0
PRODID:-//Abbey Arts Centre - ECPv4.5.12.2//NONSGML v1.0//EN
CALSCALE:GREGORIAN
METHOD:PUBLISH
X-WR-CALNAME:Abbey Arts Centre
X-ORIGINAL-URL:http://abbeycentre.ie
X-WR-CALDESC:Events for Abbey Arts Centre
BEGIN:VEVENT
DTSTART;TZID=UTC+0:20161105T103000
DTEND;TZID=UTC+0:20161105T223000
DTSTAMP:20171101T021439
CREATED:20161013T131443Z
LAST-MODIFIED:20161013T131443Z
UID:2163-1478341800-1478385000@abbeycentre.ie
SUMMARY:Allingham Festival - Saturdays Lineup
DESCRIPTION:THE ALLINGHAM FESTIVALS LINEUP FOR SATURDAY 5TH NOVEMBER AT THE ABBEY ARTS CENTRESCREENING:  \n&#8216;THE FIGHTING PRINCE OF DONEGAL&#8217; (1966) \n10.30am &#8211; 12.20am \nFree Event \n \nJoin Ken Fox in the Abbey Centre on Saturday morning for a screening of the 1966 Disney film &#8216;The Fighting Prince of Donegal&#8217;. Ken was a young movie buff when this film first came to Ballyshannon\, and he was struck by the movie version of the Donegal landscape. The movie had in fact been shot in England\, and this representation of the inauthentic is the subject of Ken&#8217;s lecture following the screening. \nAfter inheriting his father&#8217;s title\, the young noble Hugh O&#8217;Donnell is taken hostage by the English viceroy but escapes to lead an uprising.\nFirst screened in the cinema in Ballyshannon on its initial release\, the film takes up the story of Red Hugh O&#8217;Donnell as he attempts to free Ireland from English rule. Although some of the plot is factual\, many elements in the story are fictionalised\, including the landscape! \nEXHIBITION OF THE STEPHENS COLLECTION & A NOVEL IDEA \n11.55am \nFree Event \n \nA display of the Stephens family archive\, consisting of an exhibition of old photographs of Ballyshannon and surroundings\, and a collection of newspapers including the Ballyshannon Herald\, Donegal Democrat and others. The archive also contains a unique and impressive collection of local historical documents\, compelling local history books and engaging books of the poetry of William Allingham. \nBookfair by Novel Idea \nCheck out the wonderful books for sale at the bookfair hosted by &#8216;A Novel Idea&#8217; bookshop. Great authors\, hardbacks\, paperbacks\, fiction\, non-fiction\, crime & more. A large selection of children&#8217;s books for all ages will be available. There will be a display of local books for sale\, both historical and fiction. Special offers on all weekend. \nTALK: KEN FOX (CANTERBURY CHRIST CHURCH UNIVERSITY) &#8211; &#8216;IN PRAISE OF THE INAUTHENTIC&#8217; WITH KEN FOX \n12.45pm &#8211; 1.45pm \n \nKen Fox\, Media Lecturer in Canterbury Christ Church University\, returns to his home-town to deliver a lecture on aspects of the film &#8216;The Fightig Prince of Donegal&#8217; and how this affected him as a young film buff in Ballyshannon \nDOCUMENTARY: &#8216;TOUGHEST PLACE TO BE&#8230;&#8217; \n2.00pm &#8211; 2.55pm \nFree Event \n \nIFTA AWARD-NOMINATED &#8216;TOUGHEST PLACE TO BE&#8230;&#8217; (2016\, MOTIVE TV\, DIRECTED BY GARRY KEANE) TAKES A DUBLIN STREET CLEANER AND TRANSPORTS HIM TO A CROWDED\, IMPOVERISHED SUBURB OF MANILA TO TRY HIS HAND AT STREET CLEANING THERE. AWARD-WINNING DIRECTOR GARRY KEANE AND PRODUCER JAMIE D&#8217;ALTON WILL HOLD A Q&A DIRECTLY AFTER THE SCREENING. \nMark Crosbie is a street cleaner with Dublin City Council. For eight days Mark has agreed to swap the cobbled stone streets of Temple Bar for one of the most polluted and densely populated cities in the world\, Manila. How will Mark cope as he experiences life at the extreme end of his trade as immerses himself into a new family and community while learning how his job is done in some of the most unforgiving and difficult conditions imaginable. \nOver the course of the documentary\, Mark grapples with cultural differences\, new work practices and the extreme work conditions. He quickly starts to understand the extreme challenges facing the poorest people in Manila. From the exceptionally low salaries earned by waster workers to the thousands of people forced to scavenge for a living on the landfill. Mark struggles to come to terms with a world where people survive on the things that we throw away. \nQ&A WITH GARRY KEANE & JAMIE D&#8217;ALTON (MOTIVE TV) \n2.55pm &#8211; 3.30pm \nFree Event \nAWARD-WINNING FILM-MAKERS GARRY KEANE & JAMIE D&#8217;ALTON WILL TAKE PART IN A Q&A SESSION ABOUT THE PRODUCTION OF &#8216;TOUGHEST PLACE TO BE&#8230;&#8217; AMONGST OTHER TOPICS. THIS IS A FANTASTIC OPPORTUNITY TO PUT YOUR QUESTIONS TO TWO OF THE MOST RESPECTED AND PROLIFIC DOCUMENTARY FILM-MAKERS WORKING IN IRELAND TODAY. \n \nGarry Keane won the Best Director IFTA for his documentary on Sligo-based poet Dermot Healy\, &#8216;The Writing in the Sky&#8217;. More recently he received an IFTA nomination for &#8216;The Bypassed&#8217;. Other works include &#8216;These Walls Can Talk&#8217;\,  a complex and poignant story about a school that stood at the heart of the Irish Deaf community for over 150 years\, and &#8216;Class Swap&#8217;\, which looked different education systems across Europe through the eyes of students. Garry hails from Ballyshannon and still lives in Donegal\, but his work takes him around the world regularly\, working as cinematographer\, producer and director. \nGarry Keane on Vimeo: https://vimeo.com/user6198108 \n \nJamie D&#8217;Alton is the joint managing director of the IFTA award winning Motive Television production company\, and is one of Ireland&#8217;s most experienced documentary producers. Motive&#8217;s productions include the Conor McGregor documentary series &#8216;The Notorious&#8217;\, as well &#8216;The Fighting Irish&#8217; which offers an insight into the world of MMA fighting. &#8216;Toughest Place To Be&#8230;&#8217;\, produced by Motive TV\, has recently been commissioned for two further episodes in the same format. Jamie currently lives in Dublin but his grandmother and extended family still reside in Ballyshannon. www.motive.ie \nYOUNG WRITERS FICTION & POETRY AWARDS &#8211; PRIMARY SCHOOL \n3.00pm &#8211; 4.00pm \n \n \nThe winners of this year&#8217;s Allingham Young Writers Awards in association with AIB will receive their trophies and be invited to read their work in front of other finalists. This is always a fantastic event celebrating new young talent and is open to all. \nYOUNG WRITERS FICTION & POETRY AWARDS &#8211; SECONDARY SCHOOL \n4.00pm &#8211; 5.00pm \n \nThe winners of this year&#8217;s Allingham Young Writers Awards in association with AIB will receive their trophies and be invited to read their work in front of other finalists. This is always a fantastic event celebrating new young talent and is open to all. \nHISTORY IRELAND HEDGE SCHOOL \n5.30pm &#8211; 6.30pm \n€5 entry \n\n\n&#8216;KEEPING THE HEAD DOWN &#8211; PROTESTANTS IN INDEPENDENT IRELAND&#8217; \n\n\n\n\n\n\n\n\n\n\n\n\n\nTommy Graham returns to his native Ballyshannon once again with the History Ireland Hedge School. This year&#8217;s topic has a particular resonance in a border town like Ballyshannon. \nThe panel will include Marc Geagan (author of Bordertown Town Blues\, Jonathan Bardon (author of A History of Ulster and The Plantation of Ulster)\, Niall Meehan (Head of Journalism\, Griffith College) & Brian Hanley (one of the Hedge School regular panelists). \nALLINGHAM FICTION & POETRY AWARDS CEREMONY \n6.00pm &#8211; 7.00pm \nFree Event \n\n\n \nJoin the finalists in the Allingham Flash Fiction and Poetry Competitions as they receive their awards from judges Anne Enright\, Afric Mc Glinchey and Monica Corish. \nBOOK LAUNCH: MONICA CORISH &#8211; &#8216;A DYING LANGUAGE&#8217; \n7.00pm &#8211; 8.00pm \nFree Event \n \nMONICA CORISH WILL LAUNCH HER LATEST COLLECTION\, &#8216;A DYING LANGUAGE&#8217;\, AT THIS YEAR&#8217;S ALLINGHAM FESTIVAL \n\n\nThe Allingham Festival will host the regional launch of A Dying Language by Monica Corish\, a poetry collection published by the Irish Hospice Foundation. Allingham headliner Anne Enright\, Laureate for Irish Fiction\, will launch the collection. 50% of the profits from sales of the collection at the Allingham Festival will be donated to the North West Hospice. \n\n\n\n\nJane Clarke\, guest poet at the 2015 Allingham Festival\, has written about A Dying Language:“It is times of grief that bring many people to poetry or back to poetry. There is something about the intensity of the language\, the pictures it creates\, the hand it reaches out\, the way it shows that sorrow can be borne. [This] is the kind of collection that one person will give to another and say – I think you might like this\, I found it very helpful myself.” \nMonica Corish worked internationally as a nurse\, an aid worker\, and a health advisor before turning to writing full-time. Her poems and stories have appeared in Poetry Ireland Review\, The Stinging Fly\, The 2016 Hippocrates Prize Anthology\, and The Hennessy Book of Irish Fiction 2005-2015. \n \n\n\n\n\n\n \n\n\n \n
URL:http://abbeycentre.ie/events/allingham-festival-saturdays-lineup/
CATEGORIES:Book Launch,Exhibition Gallery,Film,Poetry,Story Reading
ATTACH;FMTTYPE=image/png:http://abbeycentre.ie/wp-content/uploads/2015/10/download.png
END:VEVENT
END:VCALENDAR